BEGIN:VCALENDAR
VERSION:2.0
PRODID:-//wp-events-plugin.com//7.2.3.1//EN
BEGIN:VEVENT
UID:37@stiftung-private-musikbuehnen-hamburg.de
DTSTART;TZID=Europe/Berlin:20260115T000000
DTEND;TZID=Europe/Berlin:20260228T000000
DTSTAMP:20260113T101740Z
URL:https://stiftung-private-musikbuehnen-hamburg.de/events/antragsphase-l
 icve-concert-account/
SUMMARY:Antragsphase Live Concert Account
DESCRIPTION:Die Antragsphase zum aktuellen Live Concert Account (LCA) läuf
 t vom 15. Jan. bis zum 28. Feb. 2026!
ATTACH;FMTTYPE=image/jpeg:https://stiftung-private-musikbuehnen-hamburg.de
 /wp-content/uploads/2025/08/cropped-clubstiftungslogo-anpassbar.jpg
END:VEVENT
BEGIN:VTIMEZONE
TZID:Europe/Berlin
X-LIC-LOCATION:Europe/Berlin
BEGIN:STANDARD
DTSTART:20251026T020000
TZOFFSETFROM:+0200
TZOFFSETTO:+0100
TZNAME:CET
END:STANDARD
END:VTIMEZONE
END:VCALENDAR